BEGIN:VCALENDAR
VERSION:2.0
PRODID:-//wp-events-plugin.com//7.2.3.1//EN
TZID:Asia/Kolkata
X-WR-TIMEZONE:Asia/Kolkata
BEGIN:VEVENT
UID:133@afdelhi.org
DTSTART;TZID=Asia/Kolkata:20220409T193000
DTEND;TZID=Asia/Kolkata:20220409T204500
DTSTAMP:20240625T041038Z
URL:https://afdelhi.org/events/cafe-cinema/
SUMMARY:Café-Cinema
DESCRIPTION:[su_divider margin="5"]\nAs part of Bonjour India Festival - 20
 22\nAlliance Française de Delhi invites you to\n\nCafé-Cinema : Art de v
 ivre à la française with\ncinema\, cuisine\, music and moments\nA ciné-
 food experience for cinema and food lovers\, a few hours of community\, co
 nviviality\, memories and tastes that last forever.\n\n&nbsp\;\n  \n\n\nDa
 te &amp\; Time\nSaturday\, 9 April 2022 | 7:30 pm\n\n\nVenue\n\nPullman Ho
 tel Pullman Hotel\,\nAsset No. 2\, Aerocity Hospitality District\, IGI Air
 port\, ND-37\n\n\n\nHow to join?\n◉ Entry fee: Rs. 500/- (Including a fr
 ench inspired snack box!)\n◉ Entry from 6:30 pm\n◉ Book your ticket he
 re.\n\n\n\nA French cinematic-gastronomic experience in the open air.\nGra
 b a glass of wine\, a plate of French delicacies. Sit under the sky and en
 joy the film. A soirée to meet\, to treat\, to chat\, to regain\, reclaim
 \, rejuvenate. Invite your date\, your friends or your family!\nFor more i
 nformation\, kindly write an email to communication@afdelhi.org\n&nbsp\;
CATEGORIES:Bonjour India,Events
END:VEVENT
BEGIN:VTIMEZONE
TZID:Asia/Kolkata
X-LIC-LOCATION:Asia/Kolkata
BEGIN:STANDARD
DTSTART:20210409T193000
TZOFFSETFROM:+0530
TZOFFSETTO:+0530
TZNAME:IST
END:STANDARD
END:VTIMEZONE
END:VCALENDAR