BEGIN:VCALENDAR
VERSION:2.0
PRODID:-//wp-events-plugin.com//7.2.3.1//EN
TZID:Asia/Kolkata
X-WR-TIMEZONE:Asia/Kolkata
BEGIN:VEVENT
UID:307@afdelhi.org
DTSTART;TZID=Asia/Kolkata:20250621T180000
DTEND;TZID=Asia/Kolkata:20250621T210000
DTSTAMP:20250623T034821Z
URL:https://afdelhi.org/events/celebrate-fete-de-la-musique-21st-june/
SUMMARY: Celebrate Fête de la musique | 21st June
DESCRIPTION: Celebrate Fête de la musique \nFrench Institute in India\, 
 Alliance Française Delhi and Gatecrash cordially invite you \nJoin us on
  21st June\, 6 PM - 9 PM at Alliance Française de Delhi as we celebrate n
 ot only World Music Day but also the Amplify Music Incubator — an Indo-F
 rench collaboration empowering young music professionals.\nAMI\, a leading
  platform dedicated to nurturing independent musicians in India through st
 ructured residencies and professional mentorship. In collaboration with th
 e Institut Français (Paris) and IFI\, AMI previously ran a mentorship pro
 gram where selected Indian musicians and bands were guided by renowned Fre
 nch music experts. \nMark your calendars\, bring your friends\, and let’
 s celebrate the universal language of music together with -\n🎶Bawari Ba
 santi - Indian Folk Pop\n🎸Gandhar - Live Electronica\n⚡Mannequin Diso
 rder - Disco Funk\nFree Entry\n
ATTACH;FMTTYPE=image/jpeg:https://afdelhi.org/wp-content/uploads/2025/06/2
 1-June-FDLM-AF-Delhi-scaled.png
CATEGORIES:Fête de la Musique (World Music Festival)
END:VEVENT
BEGIN:VTIMEZONE
TZID:Asia/Kolkata
X-LIC-LOCATION:Asia/Kolkata
BEGIN:STANDARD
DTSTART:20240621T180000
TZOFFSETFROM:+0530
TZOFFSETTO:+0530
TZNAME:IST
END:STANDARD
END:VTIMEZONE
END:VCALENDAR