BEGIN:VCALENDAR
VERSION:2.0
PRODID:-//wp-events-plugin.com//7.2.3.1//EN
TZID:Asia/Kolkata
X-WR-TIMEZONE:Asia/Kolkata
BEGIN:VEVENT
UID:136@afdelhi.org
DTSTART;TZID=Asia/Kolkata:20220413T210000
DTEND;TZID=Asia/Kolkata:20220413T220000
DTSTAMP:20240625T041038Z
URL:https://afdelhi.org/events/electrik-po-gurugram/
SUMMARY:Electrik Pô (Gurugram)
DESCRIPTION:[su_divider margin="5"]\nAs part of Bonjour India Festival – 
 2022\nAlliance Française de Delhi invites you to\n\n\nElectrik Pô- Urba
 n Electro-Jazz\n\n\nThe well-known music producer Fuzzy Logic comes back t
 o India with two talented musicians he met in France\, his adoptive countr
 y! They present a powerful ethnic-electro performance\, mixing electronic 
 and organic sounds.\n\n\n\n\n\nDate &amp\; Time\nWednesday\, 13 April 2022
  | 9 pm\n\n\nVenue\n\nThe Piano Man Gurugram\, 32nd avenue\, Sector 15 Par
 t 2\, Sector 15\, Gurugram – 122002\n\n\n\nHow to join?\n◉ Tariff: INR
  499/-\n◉ Click here to buy your ticket\n◉ Entry to the club and one s
 eat per ticket\n◉ Seat selections will be made by venue managers based o
 n booking priority and arrival time\n◉ Seats will be released 15 mins af
 ter the performance begins\, please inform our team if you are running lat
 e\n◉ Venue terms apply *\n\n\n\n\n\nWith influences ranging from the smo
 oth\, ambient electro of Niels Petter Molvaerd to the weighty\, Lo-fi soun
 ds of Massive Attack or Portishead\, the band fuses an orientalist melodic
  approach\, comparable to the style of Ibrahim Maalouf with the rhythmic a
 dventurism of the Balkan Beat Box collective. On stage\, Electrik Pô brin
 gs to light this contrast between today’s urban\, hyper computerized wor
 ld and the organic animal that always lives within us.\n\n\n\n\nTour produ
 ced by : Gatecrash and Jazz in India\n\n[su_heading size="16" align="left"
  margin="10"]About Po[/su_heading]\n\nPo is the name of the panda in the f
 ilm Kung Fu Panda who serendipitously becomes a kung fu master in spite of
  all odds. The name Po embodies this spirit of chance or fate that brought
  three musicians from vastly different backgrounds together. Add some elec
 tricity to this combination and you have Electrik Pô!\n\nThe music of Ele
 ctrik Pô reflects perfectly the symbolism of this “Electric” Panda in
  the physical form of Buddha embodying Strength\, Softness and Peace\, whi
 le the soul (Po meaning “Soul” in Mandarin) is festive and in constant
  moth on. It presents a vision of the world as it is today\, still wild\, 
 animalistic and hyper urban.\n\n\n\n\n\n
CATEGORIES:Bonjour India,Events
END:VEVENT
BEGIN:VTIMEZONE
TZID:Asia/Kolkata
X-LIC-LOCATION:Asia/Kolkata
BEGIN:STANDARD
DTSTART:20210413T210000
TZOFFSETFROM:+0530
TZOFFSETTO:+0530
TZNAME:IST
END:STANDARD
END:VTIMEZONE
END:VCALENDAR