BEGIN:VCALENDAR
VERSION:2.0
PRODID:-//wp-events-plugin.com//7.2.3.1//EN
TZID:Asia/Kolkata
X-WR-TIMEZONE:Asia/Kolkata
BEGIN:VEVENT
UID:134@afdelhi.org
DTSTART;TZID=Asia/Kolkata:20220413T110000
DTEND;TZID=Asia/Kolkata:20220423T200000
DTSTAMP:20240625T041038Z
URL:https://afdelhi.org/events/exposition-science-beyond-borders/
SUMMARY:Exposition: Science Beyond Borders
DESCRIPTION:[su_divider margin="5"]\nUnder the framework of Bonjour India -
  2022\nAlliance Française de Delhi cordially invites you to\n\nScience Be
 yond Borders - Connecting the Dots between India &amp\; France\n&nbsp\;\n 
  \n\n\nDate &amp\; Time\n 13 April - 23 April | 11 am - 8 pm\n\n\nVenue\n
 \nVisual Arts Gallery\, India Habitat Centre\, Lodhi Road\n\n\n\nHow to jo
 in?\n◉ Free entry. Open to all\n◉ Covid-19 protocol\n\n\n\n&nbsp\;\n\n
 The history of science initiative of the Institut Français in India takes
  you on a first journey into this extraordinary past and the stories of ex
 changes between the top minds of the two countries across centuries right 
 until the modern day through a travelling exhibition.\n\nYes\, a meeting a
 t the Fifth General Assembly of the Committee on Space Research (COSPAR) i
 n Washington DC in 1962 brought about the meeting of Jacques Blamont\, Fou
 nder of the French Space Agency (CNES) and Mr Vikram Sarabhai\, father of 
 the Indian space programme thereby paving the way for the Indian space pro
 gramme on 21stNovember 1963 with the launch of a sodium vapour payload fro
 m Thumba brought to India by Jacques Blamont. This was followed by three m
 ore rocket-based experiences conducted by the French Centaurus\, a two-sta
 ge solid propellant rocket provided by CNES to ISRO.\n\nBut that’s not a
 ll. It’s not just rocket science!\n\nThe history of science and technolo
 gy is laden with precious gems pointing to an invaluable\, though little k
 nown\, partnership between French and Indian ‘adventurers and pioneers
 ’\, comprising of scientists\, academicians\, entrepreneurs\, institutio
 ns\, engineers and government.\n\nAnd across mathematics\, medicine\, nucl
 ear science\, biodiversity\, aviation\, physics\, visual analytics\, locom
 otives\, astronomy\, cartography and more. At the end of it all\, this his
 tory and shared relationship is about people.\n\nThe history of science in
 itiative of the Institut Français in India takes you on a first journey i
 nto this extraordinary history and the stories of exchanges between the to
 p minds of the two countries across centuries right until the modern-day. 
 This history is still unravelling and more stories will join this fascinat
 ing array of narrative\, adventure and above all\, knowledge sharing and f
 ellowship.\n\n&nbsp\;\n\n
CATEGORIES:Bonjour India,Events
END:VEVENT
BEGIN:VTIMEZONE
TZID:Asia/Kolkata
X-LIC-LOCATION:Asia/Kolkata
BEGIN:STANDARD
DTSTART:20210413T110000
TZOFFSETFROM:+0530
TZOFFSETTO:+0530
TZNAME:IST
END:STANDARD
END:VTIMEZONE
END:VCALENDAR