BEGIN:VCALENDAR
VERSION:2.0
PRODID:-//wp-events-plugin.com//7.2.3.1//EN
TZID:Asia/Kolkata
X-WR-TIMEZONE:Asia/Kolkata
BEGIN:VEVENT
UID:86@afdelhi.org
DTSTART;TZID=Asia/Kolkata:20240131T180000
DTEND;TZID=Asia/Kolkata:20240131T203000
DTSTAMP:20240907T115133Z
URL:https://afdelhi.org/events/indie-talkies-supermen-of-malegaon-by-faiza
 -ahmad-khan/
SUMMARY:INDIE TALKIES : Supermen of Malegaon by Faiza Ahmad Khan
DESCRIPTION:\n\n\nJoin us for an unforgettable cinematic experience at the 
 screening of "Supermen of Malegaon" directed by Faiza Ahmad Khan. \n\n\n\n
  Wednesday\, January 31st\n 6:00 pm\n ML Bhartia Auditorium\, Alliance Fra
 nçaise de Delhi\, 72\, Lodi Estate\, New Delhi.\n\n\n\n The evening kicks
  off with tea served from 5:30 pm to 6:00 pm\, followed by the screening a
 nd a captivating Q&amp\;A session with the director herself.\n\n\n\n Be pa
 rt of the inaugural event of INDIE TALKIES\, a monthly film series curated
  by the Centre de Sciences Humaines (CSH) in collaboration with Alliance F
 rançaise de Delhi (AFD). This series promises a diverse selection of feat
 ure-length films and documentaries from across the country\, exploring var
 ious languages\, formats\, and artistic perspectives. It's a unique opport
 unity to delve into the financial\, artistic\, and political aspects of in
 dependence in filmmaking.\n\n\n\n To secure your seat\, pre-register now t
 hrough the QR code on the poster. Hurry\, as seating is limited!\n\n\n\n F
 or more information\, contact communication@csh-delhi.com or visit www.csh
 -delhi.com/events/category/indie-talkies/\n\n\n\n\n\n
ATTACH;FMTTYPE=image/jpeg:https://afdelhi.org/wp-content/uploads/2024/01/C
 SH-poster.png
CATEGORIES:Film Screening
LOCATION:Alliance Française de Delhi (M L Bhartia Auditorium)\, Alliance F
 rançaise de Delhi\, 72\, Lodi Estate\, K.K. Birla Lane\,\, New Delhi\, In
 dia\, 110003\, India
X-APPLE-STRUCTURED-LOCATION;VALUE=URI;X-ADDRESS=Alliance Française de Delh
 i\, 72\, Lodi Estate\, K.K. Birla Lane\,\, New Delhi\, India\, 110003\, In
 dia;X-APPLE-RADIUS=100;X-TITLE=Alliance Française de Delhi (M L Bhartia A
 uditorium):geo:0,0
END:VEVENT
BEGIN:VTIMEZONE
TZID:Asia/Kolkata
X-LIC-LOCATION:Asia/Kolkata
BEGIN:STANDARD
DTSTART:20230131T180000
TZOFFSETFROM:+0530
TZOFFSETTO:+0530
TZNAME:IST
END:STANDARD
END:VTIMEZONE
END:VCALENDAR