BEGIN:VCALENDAR
VERSION:2.0
PRODID:-//wp-events-plugin.com//7.2.3.1//EN
TZID:Asia/Kolkata
X-WR-TIMEZONE:Asia/Kolkata
BEGIN:VEVENT
UID:287@afdelhi.org
DTSTART;TZID=Asia/Kolkata:20250319T000000
DTEND;TZID=Asia/Kolkata:20250321T000000
DTSTAMP:20250322T030837Z
URL:https://afdelhi.org/events/la-fete-du-court-metrage-short-film-festiva
 l/
SUMMARY: La Fête du court métrage / Short Film Festival
DESCRIPTION: La Fête du court métrage / Short Film Festival\nAlliance Fr
 ançaise de Delhi invites you to La Fête du Court Métrage\, a global fes
 tival dedicated to showcasing the magic of short films. This year’s them
 e\, “La Famille”\, explores the many dimensions of family life through
  a curated selection of French short films.\nJoin us for three days of cin
 ematic storytelling\, where film lovers of all ages can experience compell
 ing narratives\, emotions\, and creativity on the big screen. The festival
  is free and open to all.\nDates: 19th – 21st March 2025 Venue: ML Bhar
 tia Auditorium\, Alliance Française de Delhi\nShort French movies with Fr
 ench subtitles\nCome discover the power of short films with us! Stay tuned
  for the detailed program.\nDOWNLOAD: La Fête du court métrage - Progr
 amme \n\nProgrammation : \n\n19 mars\n\n 	14.30 - 16.00 Sélection IF Par
 is - Regards des Outre Mers\n\nL’Institut français propose cette année
  une sélection de 4 films mettant en lumière les réalités\, les cultur
 es et les paysages ultramarins français.\n\n 	16.30 - 18.00 Fil rouge Fam
 ille : Ode aux émotifs anonymes\n\nSi vous aussi vous aimez les losers au
  grand cœur et que vous avez l'esprit Canal\, ne ratez pas ce programme d
 écalé !\n\n 	18.30 - 20.00 Panorama du film court\n\nUne sélection AF d
 e Delhi : animation\, fiction\, très court\, documentaire\n\n20 Mars\n\n 
 	11.30 - 13.00 Fil rouge Famille :\n\nFamille choisie\, Famille j’étouf
 fe\, Famille non-dits\, Famille en (re)-construction\n\n 	13.30 -15.00 Pan
 orama du film court (même programme)\n\nUne sélection AF de Delhi : anim
 ation\, fiction\, très court\, documentaire\n\n 	15.00-16.30 Séance rés
 ervée au public scolaire - Lycée français International de Delhi\n\n21 
 Mars\n\n 	11.30 - 13.00 et 14.00-15.30 Séances réservées aux apprenants
  de français langue etrangère\n 	16.30 - 18.00 Panorama du film court (m
 ême programme)\n\nUne sélection AF de Delhi : animation\, fiction\, trè
 s court\, documentaire\n\n 	18.30-20.00 Fil rouge Famille\n\nDans la famil
 le « Déracinés » je voudrais\, les grands parents\, la fille fugitive\
 , le fils rebelle\, la grand- mère éloignée\, entre autres !
ATTACH;FMTTYPE=image/jpeg:https://afdelhi.org/wp-content/uploads/2025/03/s
 hort-film-festival-724x1024-1.png
CATEGORIES:Flim Festival,Francophonie month,Other Events
LOCATION:Alliance Française de Delhi (M L Bhartia Auditorium)\, Alliance F
 rançaise de Delhi\, 72\, Lodi Estate\, K.K. Birla Lane\,\, New Delhi\, In
 dia\, 110003\, India
X-APPLE-STRUCTURED-LOCATION;VALUE=URI;X-ADDRESS=Alliance Française de Delh
 i\, 72\, Lodi Estate\, K.K. Birla Lane\,\, New Delhi\, India\, 110003\, In
 dia;X-APPLE-RADIUS=100;X-TITLE=Alliance Française de Delhi (M L Bhartia A
 uditorium):geo:0,0
END:VEVENT
BEGIN:VTIMEZONE
TZID:Asia/Kolkata
X-LIC-LOCATION:Asia/Kolkata
BEGIN:STANDARD
DTSTART:20240319T000000
TZOFFSETFROM:+0530
TZOFFSETTO:+0530
TZNAME:IST
END:STANDARD
END:VTIMEZONE
END:VCALENDAR