BEGIN:VCALENDAR
VERSION:2.0
PRODID:-//wp-events-plugin.com//7.2.3.1//EN
TZID:Asia/Kolkata
X-WR-TIMEZONE:Asia/Kolkata
BEGIN:VEVENT
UID:184@afdelhi.org
DTSTART;TZID=Asia/Kolkata:20230928T193000
DTEND;TZID=Asia/Kolkata:20230929T210000
DTSTAMP:20240707T144646Z
URL:https://afdelhi.org/events/mummys-dead-long-live-mummy/
SUMMARY:Mummy's Dead: Long Live Mummy
DESCRIPTION:\n Mummy’s Dead\, Long Live Mummy!\n“God couldn’t be ever
 ywhere\, so he created mothers”. Of course\, he could be everywhere\, he
 ’s God\, he chose not to be because in his wisdom he knew that being a m
 other is the hardest job of them all. Anyone who tells you differently is 
 either delegating\, lying\, or lying about delegating.\n\nOften a mother i
 s either pulling her own hair out in exhausted defeat or being humiliated 
 publicly by her mini-spitting image. It’s not all bad. Sometimes\, she c
 an get seven whole minutes of the cuddly\, loving child she’d always dre
 amed of. Aware that\, in the space of half a minute it can go from extreme
 ly exhilarating fun to marvellous meltdowns.\n\nBook your tickets and dive
  into the raw\, unfiltered\, and heartwarming tales of four incredible mom
 s.\n\nClick here:\n\nhttps://in.bookmyshow.com/plays/mummys-dead-long-live
 -mummy/ET00369310
CATEGORIES:Events
END:VEVENT
BEGIN:VTIMEZONE
TZID:Asia/Kolkata
X-LIC-LOCATION:Asia/Kolkata
BEGIN:STANDARD
DTSTART:20220928T193000
TZOFFSETFROM:+0530
TZOFFSETTO:+0530
TZNAME:IST
END:STANDARD
END:VTIMEZONE
END:VCALENDAR