BEGIN:VCALENDAR
VERSION:2.0
PRODID:-//wp-events-plugin.com//7.2.3.1//EN
TZID:Asia/Kolkata
X-WR-TIMEZONE:Asia/Kolkata
BEGIN:VEVENT
UID:261@afdelhi.org
DTSTART;TZID=Asia/Kolkata:20241218T180000
DTEND;TZID=Asia/Kolkata:20241218T203000
DTSTAMP:20241219T031327Z
URL:https://afdelhi.org/events/rencontres-du-toit-du-monde-18th-december/
SUMMARY:Rencontres du Toit du Monde | 18th December
DESCRIPTION:The French Embassy in India\, the French Institute in India and
  The Alliance Française de Delhi are delighted to invite you to Rencontre
 s du Toit du Monde\, a celebration of the rich culture and heritage of 
 the Indian Himalayas.\nDate: Wednesday\, 18th December 2024\nTime: 6 PM\
 nVenue: Alliance Française de Delhi (72\, KK Birla Ln\, Lodhi Estate\, 
 New Delhi)\n\nThis special evening will feature:\n         A Prese
 ntation by Nicolas Tournadre\n"Ecolinguistic Research in the Indian Himala
 yas"\nNicolas Tournadre\, Professor Emeritus\, AMU\, and member of the Ins
 titut Universitaire de France\, will share his insights.\nScreening of So
 ngs of the Water Spirits by Nicolo Bongiorno\, this internationally accla
 imed film\, translated into six languages\, has won twenty international a
 wards. his breathtaking film takes you to Ladakh\, a region at the crossro
 ads of ancient traditions and modern challenges. 🌍\nCan Ladakh inspire 
 a sustainable future in the face of climate change\, urbanization\, and en
 vironmental pressures?\nWATCH TRAILER HERE\nJoin us as we explore the beau
 ty\, stories\, and richness of the Himalayan region.\nRegister here to RSV
 P: https://forms.gle/4byohASsycYt8Dws9
ATTACH;FMTTYPE=image/jpeg:https://afdelhi.org/wp-content/uploads/2024/12/H
 imalayav1.png
CATEGORIES:Film Screening,Talk / Discussion
END:VEVENT
BEGIN:VTIMEZONE
TZID:Asia/Kolkata
X-LIC-LOCATION:Asia/Kolkata
BEGIN:STANDARD
DTSTART:20231219T180000
TZOFFSETFROM:+0530
TZOFFSETTO:+0530
TZNAME:IST
END:STANDARD
END:VTIMEZONE
END:VCALENDAR