BEGIN:VCALENDAR
VERSION:2.0
PRODID:-//wp-events-plugin.com//7.2.3.1//EN
TZID:Asia/Kolkata
X-WR-TIMEZONE:Asia/Kolkata
BEGIN:VEVENT
UID:362@afdelhi.org
DTSTART;TZID=Asia/Kolkata:20260228T000000
DTEND;TZID=Asia/Kolkata:20260304T000000
DTSTAMP:20260304T002827Z
URL:https://afdelhi.org/events/wall-art-india-2026-kesadi-in-delhi/
SUMMARY:Wall Art India 2026 | Kesadi in Delhi
DESCRIPTION:Wall Art India 2026 | Delhi Edition (28 February – 4 March 20
 26)\nAlliance Française de Delhi is excited to announce the Delhi chapter
  of Wall Art India 2026\, placing women’s creativity and emerging urban 
 voices at the heart of its 5th edition.\n\nThis year\, Delhi welcomes Fren
 ch artist Kesadi.\nKesadi develops a pictorial practice nourished by obser
 vation\, movement\, and attention to simple things. Coming from graffiti a
 nd street art culture\, he retains from this background a direct relations
 hip to gesture and image\, which he now transposes onto various media\, ma
 inly canvas and paper. His work is organized as a collection of fragments:
  everyday objects\, street scenes\, modest architectures\, or landscapes e
 ncountered during his travels. These elements\, isolated and then recompos
 ed\, form images that are both familiar and slightly offbeat. Kesadi’s p
 ainting does not seek anecdote\; rather\, it operates through an accumulat
 ion of signs\, through subtle shifts between the real and the imaginary.\n
 Through murals\, workshops\, and public encounters\, Wall Art India contin
 ues its mission of making art free and accessible to all—deeply connecte
 d to local neighbourhoods and designed to remain part of the urban landsca
 pe long after the festival ends.\nWall Art festival is led by the Alliance
  Francaise network in India\, in collaboration with the Embassy of France 
 in India and the Institut Français\, with the support from Apollo Tyres a
 nd JSW Paints.\n\n&nbsp\;\n\n\n\n&nbsp\;
ATTACH;FMTTYPE=image/jpeg:https://afdelhi.org/wp-content/uploads/2026/02/W
 all-art.png
CATEGORIES:Painting
END:VEVENT
BEGIN:VTIMEZONE
TZID:Asia/Kolkata
X-LIC-LOCATION:Asia/Kolkata
BEGIN:STANDARD
DTSTART:20250228T000000
TZOFFSETFROM:+0530
TZOFFSETTO:+0530
TZNAME:IST
END:STANDARD
END:VTIMEZONE
END:VCALENDAR