BEGIN:VCALENDAR
VERSION:2.0
PRODID:-//wp-events-plugin.com//7.2.3.1//EN
TZID:Asia/Kolkata
X-WR-TIMEZONE:Asia/Kolkata
BEGIN:VEVENT
UID:189@afdelhi.org
DTSTART;TZID=Asia/Kolkata:20230915T193000
DTEND;TZID=Asia/Kolkata:20230915T203000
DTSTAMP:20240707T144646Z
URL:https://afdelhi.org/events/when-they-love-you-like-that-music-concert/
SUMMARY:When They Love You Like That | Music Concert
DESCRIPTION:&nbsp\;\n\n\n\n\n\nTo celebrate the 60th Anniversary of the Él
 yséeTreaty of Franco-German friendship\, We are delighted to invite you t
 o\n\n\n\n\n\n\nWhen They Love You Like That…\na musical evening featurin
 g the trio Lilanoor Ensemble\nVenue: India Habitat Centre\,  \nDate: Frid
 ay\, 15 September 2023\nTime: 7:30 pm.\nPerformed by three versatile Frenc
 h classical musicians influenced by various genres\, this program immerses
  the performers in the decadent universe and in the realistic and expressi
 onist aesthetics of Paris and Berlin cabarets\, through the perspective of
  a woman\, lost in the middle of the patriarchal system of that time. The 
 originality of the project lies in the arrangements for accordion\, piano 
 and voice of masterpieces from the Lied\, French Art Song and cabaret/caf
 é-concert pieces. Through this rather unusual trio\, they glorify a very 
 beautiful repertoire\, resonating with some texts and poems by famous auth
 ors of that time.\nEntry is free for all\n\n\n\n\n\n
CATEGORIES:Concert,Events
END:VEVENT
BEGIN:VTIMEZONE
TZID:Asia/Kolkata
X-LIC-LOCATION:Asia/Kolkata
BEGIN:STANDARD
DTSTART:20220915T193000
TZOFFSETFROM:+0530
TZOFFSETTO:+0530
TZNAME:IST
END:STANDARD
END:VTIMEZONE
END:VCALENDAR